BEGIN:VCALENDAR
VERSION:2.0
PRODID:icalendar-ruby
CALSCALE:GREGORIAN
METHOD:PUBLISH
BEGIN:VEVENT
DTSTAMP:20260422T142316Z
UID:5-1522713@trilogychurch.tithelysetup5.com
DTSTART:20261101T190000Z
DTEND:20261101T200000Z
CLASS:PUBLIC
CREATED:20260422T054442
DESCRIPTION:Sunday Worship
LAST-MODIFIED:20260422T054442
LOCATION:
SUMMARY:Sunday Worship
URL;VALUE=URI:https://trilogychurch.com/events/sunday-worship/2026-11-01
END:VEVENT
END:VCALENDAR
