BEGIN:VCALENDAR
VERSION:2.0
PRODID:icalendar-ruby
CALSCALE:GREGORIAN
METHOD:PUBLISH
BEGIN:VEVENT
DTSTAMP:20260422T124612Z
UID:5-1522712@trilogychurch.tithelysetup5.com
DTSTART:20261025T180000Z
DTEND:20261025T190000Z
CLASS:PUBLIC
CREATED:20260422T054442
DESCRIPTION:Sunday Worship
LAST-MODIFIED:20260422T054442
LOCATION:
SUMMARY:Sunday Worship
URL;VALUE=URI:https://trilogychurch.com/events/sunday-worship/2026-10-25
END:VEVENT
END:VCALENDAR
