BEGIN:VCALENDAR
VERSION:2.0
PRODID:icalendar-ruby
CALSCALE:GREGORIAN
METHOD:PUBLISH
BEGIN:VEVENT
DTSTAMP:20260422T061043Z
UID:5-1522329@trilogychurch.tithelysetup5.com
DTSTART:20260927T180000Z
DTEND:20260927T190000Z
CLASS:PUBLIC
CREATED:20260421T183616
DESCRIPTION:Sunday Worship
LAST-MODIFIED:20260421T183616
LOCATION:
SUMMARY:Sunday Worship
URL;VALUE=URI:https://trilogychurch.com/events/sunday-worship/2026-09-27
END:VEVENT
END:VCALENDAR
