BEGIN:VCALENDAR
VERSION:2.0
PRODID:icalendar-ruby
CALSCALE:GREGORIAN
METHOD:PUBLISH
BEGIN:VEVENT
DTSTAMP:20260421T215549Z
UID:5-1521566@trilogychurch.tithelysetup5.com
DTSTART:20260823T180000Z
DTEND:20260823T190000Z
CLASS:PUBLIC
CREATED:20260421T131916
DESCRIPTION:Sunday Worship
LAST-MODIFIED:20260421T131916
LOCATION:
SUMMARY:Sunday Worship
URL;VALUE=URI:https://trilogychurch.com/events/sunday-worship/2026-08-23
END:VEVENT
END:VCALENDAR
