BEGIN:VCALENDAR
VERSION:2.0
PRODID:icalendar-ruby
CALSCALE:GREGORIAN
METHOD:PUBLISH
BEGIN:VEVENT
DTSTAMP:20260421T185427Z
UID:5-1521185@trilogychurch.tithelysetup5.com
DTSTART:20260809T180000Z
DTEND:20260809T190000Z
CLASS:PUBLIC
CREATED:20260421T104333
DESCRIPTION:Sunday Worship
LAST-MODIFIED:20260421T104333
LOCATION:
SUMMARY:Sunday Worship
URL;VALUE=URI:https://trilogychurch.com/events/sunday-worship/2026-08-09
END:VEVENT
END:VCALENDAR
