BEGIN:VCALENDAR
VERSION:2.0
PRODID:icalendar-ruby
CALSCALE:GREGORIAN
METHOD:PUBLISH
BEGIN:VEVENT
DTSTAMP:20260421T165214Z
UID:5-1520805@trilogychurch.tithelysetup5.com
DTSTART:20260802T180000Z
DTEND:20260802T190000Z
CLASS:PUBLIC
CREATED:20260421T080315
DESCRIPTION:Sunday Worship
LAST-MODIFIED:20260421T080315
LOCATION:
SUMMARY:Sunday Worship
URL;VALUE=URI:https://trilogychurch.com/events/sunday-worship/2026-08-02
END:VEVENT
END:VCALENDAR
