BEGIN:VCALENDAR
VERSION:2.0
PRODID:icalendar-ruby
CALSCALE:GREGORIAN
METHOD:PUBLISH
BEGIN:VEVENT
DTSTAMP:20260421T104615Z
UID:5-1520043@trilogychurch.tithelysetup5.com
DTSTART:20260705T180000Z
DTEND:20260705T190000Z
CLASS:PUBLIC
CREATED:20260420T182015
DESCRIPTION:Sunday Worship
LAST-MODIFIED:20260420T182015
LOCATION:
SUMMARY:Sunday Worship
URL;VALUE=URI:https://trilogychurch.com/events/sunday-worship/2026-07-05
END:VEVENT
END:VCALENDAR
