BEGIN:VCALENDAR
VERSION:2.0
PRODID:icalendar-ruby
CALSCALE:GREGORIAN
METHOD:PUBLISH
BEGIN:VEVENT
DTSTAMP:20260421T092613Z
UID:5-1520042@trilogychurch.tithelysetup5.com
DTSTART:20260628T180000Z
DTEND:20260628T190000Z
CLASS:PUBLIC
CREATED:20260420T182015
DESCRIPTION:Sunday Worship
LAST-MODIFIED:20260420T182015
LOCATION:
SUMMARY:Sunday Worship
URL;VALUE=URI:https://trilogychurch.com/events/sunday-worship/2026-06-28
END:VEVENT
END:VCALENDAR
