BEGIN:VCALENDAR
VERSION:2.0
PRODID:icalendar-ruby
CALSCALE:GREGORIAN
METHOD:PUBLISH
BEGIN:VEVENT
DTSTAMP:20260421T062234Z
UID:5-1520040@trilogychurch.tithelysetup5.com
DTSTART:20260614T180000Z
DTEND:20260614T190000Z
CLASS:PUBLIC
CREATED:20260420T182015
DESCRIPTION:Sunday Worship
LAST-MODIFIED:20260420T182015
LOCATION:
SUMMARY:Sunday Worship
URL;VALUE=URI:https://trilogychurch.com/events/sunday-worship/2026-06-14
END:VEVENT
END:VCALENDAR
