BEGIN:VCALENDAR
VERSION:2.0
PRODID:icalendar-ruby
CALSCALE:GREGORIAN
METHOD:PUBLISH
BEGIN:VEVENT
DTSTAMP:20260420T223920Z
UID:5-1519280@trilogychurch.tithelysetup5.com
DTSTART:20260531T180000Z
DTEND:20260531T190000Z
CLASS:PUBLIC
CREATED:20260420T131032
DESCRIPTION:Sunday Worship
LAST-MODIFIED:20260420T131032
LOCATION:
SUMMARY:Sunday Worship
URL;VALUE=URI:https://trilogychurch.com/events/sunday-worship/2026-05-31
END:VEVENT
END:VCALENDAR
